BEGIN:VCALENDAR
VERSION:2.0
PRODID:-//Office of Research - ECPv6.1.3//NONSGML v1.0//EN
CALSCALE:GREGORIAN
METHOD:PUBLISH
X-ORIGINAL-URL:https://research.wsu.edu
X-WR-CALDESC:Events for Office of Research
REFRESH-INTERVAL;VALUE=DURATION:PT1H
X-Robots-Tag:noindex
X-PUBLISHED-TTL:PT1H
BEGIN:VTIMEZONE
TZID:America/Los_Angeles
BEGIN:DAYLIGHT
TZOFFSETFROM:-0800
TZOFFSETTO:-0700
TZNAME:PDT
DTSTART:20180311T100000
END:DAYLIGHT
BEGIN:STANDARD
TZOFFSETFROM:-0700
TZOFFSETTO:-0800
TZNAME:PST
DTSTART:20181104T090000
END:STANDARD
END:VTIMEZONE
BEGIN:VEVENT
DTSTART;TZID=America/Los_Angeles:20180420T090000
DTEND;TZID=America/Los_Angeles:20180420T150000
DTSTAMP:20260419T201918
CREATED:20180330T223451Z
LAST-MODIFIED:20180330T232055Z
UID:5568-1524214800-1524236400@research.wsu.edu
SUMMARY:One-Day Workshop on Proposal Development
DESCRIPTION:Join Office of Research Advancement and Partnerships (ORAP) proposal consultants Dr. Robert Finney\, Dr. Becky James\, and Maureen Bonnefin\, CRA for a full day grant writing workshop on April 20th from 9am to 3pm. Learn how to become a more effective grant proposal writer through hands-on\, interactive activities designed to create desire for your project. Preliminary data shows that attending ORAP’s grant writing courses significantly increases your award success rate. Learn more about the workshop HERE. \nAt this time\, we can only accept faculty for the workshop. Unfortunately Skype and AMS are not available. \nSpace is limited. Sign up now!
URL:https://research.wsu.edu/event/one-day-workshop-on-proposal-development
LOCATION:Asian Pacific American Cultural House\, 905 C Street\, Pullman\,\, WA\, 99163\, United States
CATEGORIES:Workshops and Seminars
ORGANIZER;CN="Office%20of%20Research%20Advancement%20and%20Partnerships":MAILTO:emily.brashear@wsu.edu
GEO:46.7347016;-117.1669046
X-APPLE-STRUCTURED-LOCATION;VALUE=URI;X-ADDRESS=Asian Pacific American Cultural House 905 C Street Pullman WA 99163 United States;X-APPLE-RADIUS=500;X-TITLE=905 C Street:geo:-117.1669046,46.7347016
END:VEVENT
END:VCALENDAR